BEGIN:VCALENDAR
VERSION:2.0
PRODID:-//Welcome to GRES - ECPv6.15.20//NONSGML v1.0//EN
CALSCALE:GREGORIAN
METHOD:PUBLISH
X-WR-CALNAME:Welcome to GRES
X-ORIGINAL-URL:https://www.gres.org.uk
X-WR-CALDESC:Events for Welcome to GRES
REFRESH-INTERVAL;VALUE=DURATION:PT1H
X-Robots-Tag:noindex
X-PUBLISHED-TTL:PT1H
BEGIN:VTIMEZONE
TZID:UTC
BEGIN:STANDARD
TZOFFSETFROM:+0000
TZOFFSETTO:+0000
TZNAME:UTC
DTSTART:20240101T000000
END:STANDARD
END:VTIMEZONE
BEGIN:VEVENT
DTSTART;TZID=UTC:20250920T100000
DTEND;TZID=UTC:20250921T170000
DTSTAMP:20260424T081126
CREATED:20250901T143228Z
LAST-MODIFIED:20250901T143403Z
UID:5170-1758362400-1758474000@www.gres.org.uk
SUMMARY:Spa Valley Railway Model Railway Weekend 20th & 21st September 2025
DESCRIPTION:Spa Valley Railway – 5th Model Railway Show (Model Railway Weekend)\nDates:Saturday & Sunday\, 20–21 September 2025 • 10:00 – 17:00 both days spavalleyrailway.co.uk \nVenue:Spa Valley Railway — Stations at Tunbridge Wells West\, Groombridge\, and Eridge in Kent spavalleyrailway.co.ukWikipedia \n\nWhat’s On\n\n\nLayouts GaloreA stunning collection of more than 30 model railway layouts in scales ranging from N\, OO\, O\, OO9\, S\, and more\, displayed across multiple stations and for the first time onboard the trains spavalleyrailway.co.ukVisit Kent. \n\n\nTrade StandsAt least 10 trade stands\, featuring exhibitors such as David Wills Model Railways\, Roxley Models\, Kent Model Exchange\, Cyril Kennett Second Hand Sales\, Andy Lynch Model Railways\, Models U Drive\, Kent Garden Railways\, On the Rails\, Southern Scale Models\, Rainers Trains\, and Dream Steam Ltd. spavalleyrailway.co.uk. \n\n\nSpecial Activities \n\n\nModel railway hunt with fun for all the family—including a chance to win a prize spavalleyrailway.co.uk. \n\n\nA two-train service featuring the famous Bulleid Pacific 34053 ‘Sir Keith Park’ spavalleyrailway.co.ukVisit Kent. \n\n\n\n\nLayouts to Look Out For (just a sample): \n\n\nEngland’s Dark Satanic Mills \n\n\nTunbrick Wells\, Upperton\, The Paystow Branch\, Brook Street \n\n\nEnsthorpe\, Harland Castle\, Daleside\, Travelling to Wedded Bliss \n\n\nBrunswick\, Oakbourne\, Quarry Falls\, Merrybrook Parkway \n\n\nOxley Heath\, Horsebridge Wharf\, Kinlochewe\, Scarlington \n\n\nDublingham Goods Station\, The LB&L Line\, Out West \n\n\nWhite Meadow Quarry\, Roast Green Road Depot\, Hornby Dublo \n\n\nLarger & Lime Works\, Lockbourne Ohio\, West Green MPD spavalleyrailway.co.uk \n\n\n\n\n\nTickets & Pricing\nAll-Day Train Travel + Exhibition (Tunbridge Wells West only): \n\n\nAdult: £16.00 \n\n\nSenior (60+): £15.00 \n\n\nChild (2–15 yrs): £9.00 \n\n\nFamily (2 adults + 2 children): £41.00 spavalleyrailway.co.uk      \n\n\nVisit Kent \n\n\nExhibition-Only (Tunbridge Wells West): \n\n\nAdult: £11.00 \n\n\nSenior: £10.00 \n\n\nChild: £6.00 \n\n\nFamily: £28.00 Visit Kent \n\n\nTickets can be purchased online in advance or on the day via the Spa Valley Railway website
URL:https://www.gres.org.uk/event/spa-valley-railway-model-railway-weekend-20th-21st-september-2025/
CATEGORIES:Exhibition
END:VEVENT
END:VCALENDAR