BEGIN:VCALENDAR
VERSION:2.0
PRODID:-//Welcome to GRES - ECPv6.15.20//NONSGML v1.0//EN
CALSCALE:GREGORIAN
METHOD:PUBLISH
X-WR-CALNAME:Welcome to GRES
X-ORIGINAL-URL:https://www.gres.org.uk
X-WR-CALDESC:Events for Welcome to GRES
REFRESH-INTERVAL;VALUE=DURATION:PT1H
X-Robots-Tag:noindex
X-PUBLISHED-TTL:PT1H
BEGIN:VTIMEZONE
TZID:UTC
BEGIN:STANDARD
TZOFFSETFROM:+0000
TZOFFSETTO:+0000
TZNAME:UTC
DTSTART:20250101T000000
END:STANDARD
END:VTIMEZONE
BEGIN:VEVENT
DTSTART;TZID=UTC:20260509T100000
DTEND;TZID=UTC:20260509T160000
DTSTAMP:20260423T171204
CREATED:20250915T102114Z
LAST-MODIFIED:20260325T073129Z
UID:5227-1778320800-1778342400@www.gres.org.uk
SUMMARY:BIRCHINGTON Model Railway Exhibition\, Saturday 9 May 2026 EKMRS
DESCRIPTION:BIRCHINGTON Model Railway Exhibition\, Saturday 9 May 2026\nThe Centre\, Alpha Road\, Birchington\, Kent CT7 9EG \n 
URL:https://www.gres.org.uk/event/birchington-model-railway-exhibition-saturday-9-may-2026-ekmrs/
LOCATION:The Centre Birchington Alpha Road Birchington CT7 9EG\, The Centre Birchington\, Alpha Road Birchington\, Kent\, CT7 9EG\, United Kingdom
CATEGORIES:Exhibition,Local Event
ORGANIZER;CN="East Kent Model Railway Society (Whitstable)":MAILTO:ekmrswhitstable@gmail.com
END:VEVENT
BEGIN:VEVENT
DTSTART;TZID=UTC:20260621T100000
DTEND;TZID=UTC:20260621T160000
DTSTAMP:20260423T171205
CREATED:20250903T120026Z
LAST-MODIFIED:20260113T105303Z
UID:5179-1782036000-1782057600@www.gres.org.uk
SUMMARY:GRES Family day 21st June 2026
DESCRIPTION:For the second year\, we are proud to announce Family Day 2026\, on 21st June\, 2026. \nThe Gravesend Railway Enthusiasts Society is proud to host our 2nd annual Family Day – a fun-filled event for all ages! \n🚂 What’s on: \n\nModel Train Layouts\, Demonstrations & Displays\nModel Train Sales\nTrain-Themed Events & Party Hosts\nPlay Activities for Children\nLoco DCC Chip Fitting & Onsite Repairs\nWindmill Hill Family-Friendly 00 Gauge Layout\n\n…and much more! \n🍩 Snacks\, hot & cold drinks available to purchase🅿️ Free parking on site \nAdmission: \n£3 per adult and up to 2 children (Under 18) \n£5 Family ticket (2 Adults and up to 3 children) \nIf you are interested in displaying a layout\, running an activity\, or hosting a stall\, please complete the form below. \nGRES Family Day – Exhibitor\, Stallholder FormPlease complete this form if you are interested in displaying a layout\, running an activity\, or  hosting a stall.\n\nA £10 per 6ft x 2.5ft table fee applies for stallholders if you are not displaying a layout.\n\nLayouts are free to exhibit. and you may sell items if you wish.\nPlease note we are unable to cover any expenses.Please enable JavaScript in your browser to complete this form.Please enable JavaScript in your browser to complete this form.Full Name *Organisation / Club (if applicable) *Email *Phone Number *About Your Display / Stall - What are you planning to bring? *Model Railway LayoutDemonstration / ActivitySales Stall (e.g. models\, books\, memorabilia)Name / Title of Your Layout\, Stall or Activity *Brief Description (for event programme and publicity) *Include Scale / Gauge (if bringing a model railway layout)Approximate Space Required (in ft) *for example\, 6ft x 4ft with an addtional 2 ft operating space)How many tables will you require? *Please bring your own if you can as there are limited tables available. tables are 6ft x 2.5ft.Power Requirements *NoneStandard 13A SocketPlease bring your own PAT tested RCD and extension leadsDo you require assistance with setup or unloading *YesNoDo you have any special requirements?Please list any special requirementsWould you like your details included in our public programme / website? *YesNo		\n			(in Requirements to\n			\n		\n		I confirm I will attend the event on 21st June 2026\, accept the £10 fee for stall holders and will be responsible for my own equipment. *AgreeDo not AgreeSubmit   \nPhotos from Family day 2025 \nA Successful GRES Family Day: A Celebration of Community\, Railways\, and Fun – Welcome to GRES
URL:https://www.gres.org.uk/event/gres-family-day-21st-june-2026/
LOCATION:Higham Memorial Hall\, Rochester\, School Lane Higham\, Rochester\, Kent\, ME3 7JL\, United Kingdom
CATEGORIES:Exhibition,Local Event
ATTACH;FMTTYPE=image/jpeg:https://www.gres.org.uk/wp-content/uploads/2025/09/Screenshot-2025-09-03-131558.jpg
END:VEVENT
BEGIN:VEVENT
DTSTART;TZID=UTC:20260718T100000
DTEND;TZID=UTC:20260719T160000
DTSTAMP:20260423T171205
CREATED:20251105T074748Z
LAST-MODIFIED:20260102T102721Z
UID:5339-1784368800-1784476800@www.gres.org.uk
SUMMARY:Chatham 2026
DESCRIPTION:The Chatham Show 18th and 19th July 2026 \nChatham & District Model Railway Club Layouts
URL:https://www.gres.org.uk/event/chatham-2026/
LOCATION:The Historic Dockyard Chatham\, The Historic Dockyard Chatham\, ME4 4TZ\, United Kingdom
CATEGORIES:Exhibition,Local Event
ORGANIZER;CN="Chatham & District Model Railway Club":MAILTO:info@chatham.show
END:VEVENT
BEGIN:VEVENT
DTSTART;TZID=UTC:20261024T100000
DTEND;TZID=UTC:20261024T160000
DTSTAMP:20260423T171205
CREATED:20250915T102242Z
LAST-MODIFIED:20260102T102412Z
UID:5229-1792836000-1792857600@www.gres.org.uk
SUMMARY:HERNE BAY Model Railway Exhibition\, Saturday 24 October 2026 EKMRS
DESCRIPTION:HERNE BAY Model Railway Exhibition\, Saturday 24 October 2026\nHerne Centre\, School Lane\, Herne CT6 7AP
URL:https://www.gres.org.uk/event/herne-bay-model-railway-exhibition-saturday-24-october-2026-ekmrs/
LOCATION:Herne Centre\, School Lane\, Herne CT6 7AP\, Herne Centre\, School Lane\,\, Herne\, CT6 7AP\, United Kingdom
CATEGORIES:Exhibition,Local Event
ORGANIZER;CN="East Kent Model Railway Society (Whitstable)":MAILTO:ekmrswhitstable@gmail.com
END:VEVENT
END:VCALENDAR