BEGIN:VCALENDAR
VERSION:2.0
PRODID:-//Welcome to GRES - ECPv6.15.20//NONSGML v1.0//EN
CALSCALE:GREGORIAN
METHOD:PUBLISH
X-WR-CALNAME:Welcome to GRES
X-ORIGINAL-URL:https://www.gres.org.uk
X-WR-CALDESC:Events for Welcome to GRES
REFRESH-INTERVAL;VALUE=DURATION:PT1H
X-Robots-Tag:noindex
X-PUBLISHED-TTL:PT1H
BEGIN:VTIMEZONE
TZID:UTC
BEGIN:STANDARD
TZOFFSETFROM:+0000
TZOFFSETTO:+0000
TZNAME:UTC
DTSTART:20240101T000000
END:STANDARD
END:VTIMEZONE
BEGIN:VEVENT
DTSTART;TZID=UTC:20250913T100000
DTEND;TZID=UTC:20250914T160000
DTSTAMP:20260424T113407
CREATED:20250901T140632Z
LAST-MODIFIED:20250901T141104Z
UID:5156-1757757600-1757865600@www.gres.org.uk
SUMMARY:Faversham Model Railway Exhibition 2025
DESCRIPTION:Faversham Model Railway Exhibition 2025📅 13–14 September 2025 \nSaturday: 10:00 – 16:30 \nSunday: 10:00 – 16:00 \n📍 The Abbey School\, London Road\, Faversham\, Kent\, ME13 8RZ \n🚂 Layouts | Trade Support | Society Stands | Refreshments | Free On-Site Parking \n🎟️ Admission: \nAdults (17+): £7.00 \nChildren (5–16): £3.00 \nUnder 5’s: Free \nCash preferred \n🔗 More info: www.favershammrc.org.uk
URL:https://www.gres.org.uk/event/faversham-model-railway-exhibition-2025/
LOCATION:The Abbey School\, London Road\, Faversham\, Kent\, ME13 8RZ\, The Abbey School\, London Road\, Faversham\, Kent\, ME13 8RZ\, United Kingdom
CATEGORIES:Exhibition,Local Event
END:VEVENT
END:VCALENDAR