BEGIN:VCALENDAR
VERSION:2.0
PRODID:-//Welcome to GRES - ECPv6.15.20//NONSGML v1.0//EN
CALSCALE:GREGORIAN
METHOD:PUBLISH
X-ORIGINAL-URL:https://www.gres.org.uk
X-WR-CALDESC:Events for Welcome to GRES
REFRESH-INTERVAL;VALUE=DURATION:PT1H
X-Robots-Tag:noindex
X-PUBLISHED-TTL:PT1H
BEGIN:VTIMEZONE
TZID:UTC
BEGIN:STANDARD
TZOFFSETFROM:+0000
TZOFFSETTO:+0000
TZNAME:UTC
DTSTART:20240101T000000
END:STANDARD
END:VTIMEZONE
BEGIN:VEVENT
DTSTART;TZID=UTC:20251025T100000
DTEND;TZID=UTC:20251025T160000
DTSTAMP:20260424T040048
CREATED:20251001T104153Z
LAST-MODIFIED:20260102T103334Z
UID:5247-1761386400-1761408000@www.gres.org.uk
SUMMARY:Whitstable Model Railway Exhibition 25th October 2025
DESCRIPTION:Not long to go now until the Whitstable Model Exhibition on Saturday 25 October\, organised by the East Kent Model Railway Society. \n17 layouts plus half a dozen traders to fill the halls of the Swalecliffe Community Centre\, Adult admission is £5 and accompanied children under 16 are free. \nIn addition\, there will be the club’s latest limited edition wagon on sale. T.S. King\, which is still trading in Herne Bay town \n 
URL:https://www.gres.org.uk/event/whitstable-model-railway-exhibition-25th-october-2025/
LOCATION:Swalecliffe & Chestfield Community Centre 19 St John’s Road\, Swalecliffe\, Whitstable CT5 2QU\, Swalecliffe & Chestfield Community Centre\, 19 St John’s Road\, Swalecliffe\, Whitstable\, Kent\, CT5 2QU
CATEGORIES:Exhibition,Local Event
ORGANIZER;CN="East Kent Model Railway Society (Whitstable)":MAILTO:ekmrswhitstable@gmail.com
END:VEVENT
END:VCALENDAR