BEGIN:VCALENDAR
VERSION:2.0
PRODID:-//Welcome to GRES - ECPv6.15.20//NONSGML v1.0//EN
CALSCALE:GREGORIAN
METHOD:PUBLISH
X-WR-CALNAME:Welcome to GRES
X-ORIGINAL-URL:https://www.gres.org.uk
X-WR-CALDESC:Events for Welcome to GRES
REFRESH-INTERVAL;VALUE=DURATION:PT1H
X-Robots-Tag:noindex
X-PUBLISHED-TTL:PT1H
BEGIN:VTIMEZONE
TZID:UTC
BEGIN:STANDARD
TZOFFSETFROM:+0000
TZOFFSETTO:+0000
TZNAME:UTC
DTSTART:20240101T000000
END:STANDARD
END:VTIMEZONE
BEGIN:VEVENT
DTSTART;TZID=UTC:20250304T193000
DTEND;TZID=UTC:20250304T213000
DTSTAMP:20260425T035659
CREATED:20241031T093802Z
LAST-MODIFIED:20250303T145413Z
UID:4334-1741116600-1741123800@www.gres.org.uk
SUMMARY:Berlin Telephone Tap (Robert (Bob) Gibbs) 
DESCRIPTION:Tuesday 4th – Bob Gibbs will be joining us to tell us about the “Berlin Telephone Tap“. In a world of intrigue and espionage\, this promises to be an interesting evening and definitely falls into the ‘something different’ category. This will take place at our usual venue of the Emmanuel Church Hall\, 55 Windmill Street\, Gravesend (from 7.45pm). \n  \nRegular meetings are usually held on the first Tuesday and the second to last Thursday of each month. Meetings start at 7.45pm at: Emmanuel Baptist Church Hall\, Windmill Street\, Gravesend\, DA12 1BB
URL:https://www.gres.org.uk/event/to-be-confirmed-3/
LOCATION:Emmanuel Baptist Church\, Emmanuel Baptist Church Hall\, Windmill Street\, Gravesend\, DA12 1BB
CATEGORIES:Club Talk
END:VEVENT
END:VCALENDAR