BEGIN:VCALENDAR
VERSION:2.0
PRODID:-//Welcome to GRES - ECPv6.15.20//NONSGML v1.0//EN
CALSCALE:GREGORIAN
METHOD:PUBLISH
X-ORIGINAL-URL:https://www.gres.org.uk
X-WR-CALDESC:Events for Welcome to GRES
REFRESH-INTERVAL;VALUE=DURATION:PT1H
X-Robots-Tag:noindex
X-PUBLISHED-TTL:PT1H
BEGIN:VTIMEZONE
TZID:UTC
BEGIN:STANDARD
TZOFFSETFROM:+0000
TZOFFSETTO:+0000
TZNAME:UTC
DTSTART:20250101T000000
END:STANDARD
END:VTIMEZONE
BEGIN:VEVENT
DTSTART;TZID=UTC:20260429T180000
DTEND;TZID=UTC:20260429T200000
DTSTAMP:20260423T153952
CREATED:20251119T091722Z
LAST-MODIFIED:20260106T095610Z
UID:5363-1777485600-1777492800@www.gres.org.uk
SUMMARY:Modelling Group Evening 29th April 2025
DESCRIPTION:GRES also has a dedicated sub-section for members who are passionate about model railways. Our focus is primarily on 00 Gauge\, and we work on both personal layouts and two club layouts that we maintain collectively. \nWe hold meetings twice a month at our venue in Longfield\, Kent\, providing an opportunity for members to collaborate\, share ideas\, and work on layouts together. The specific meeting dates can be found here. \nTo become a part of the GRES Model Railway Club\, you will need to have an active GRES membership as well as a subscription to the Model Railway Club.
URL:https://www.gres.org.uk/event/modelling-group-evening-29th-april-2025/
LOCATION:Kent
CATEGORIES:Modelling Group Evening
END:VEVENT
BEGIN:VEVENT
DTSTART;TZID=UTC:20260514T080000
DTEND;TZID=UTC:20260514T200000
DTSTAMP:20260423T153952
CREATED:20251119T091740Z
LAST-MODIFIED:20260106T095615Z
UID:5364-1778745600-1778788800@www.gres.org.uk
SUMMARY:Modelling Group Evening 14th May 2025
DESCRIPTION:GRES also has a dedicated sub-section for members who are passionate about model railways. Our focus is primarily on 00 Gauge\, and we work on both personal layouts and two club layouts that we maintain collectively. \nWe hold meetings twice a month at our venue in Longfield\, Kent\, providing an opportunity for members to collaborate\, share ideas\, and work on layouts together. The specific meeting dates can be found here. \nTo become a part of the GRES Model Railway Club\, you will need to have an active GRES membership as well as a subscription to the Model Railway Club.
URL:https://www.gres.org.uk/event/modelling-group-evening-14th-may-2025/
LOCATION:Kent
CATEGORIES:Modelling Group Evening
END:VEVENT
BEGIN:VEVENT
DTSTART;TZID=UTC:20260527T080000
DTEND;TZID=UTC:20260527T200000
DTSTAMP:20260423T153952
CREATED:20251119T091756Z
LAST-MODIFIED:20260106T095620Z
UID:5365-1779868800-1779912000@www.gres.org.uk
SUMMARY:Modelling Group Evening 27th May 2025
DESCRIPTION:GRES also has a dedicated sub-section for members who are passionate about model railways. Our focus is primarily on 00 Gauge\, and we work on both personal layouts and two club layouts that we maintain collectively. \nWe hold meetings twice a month at our venue in Longfield\, Kent\, providing an opportunity for members to collaborate\, share ideas\, and work on layouts together. The specific meeting dates can be found here. \nTo become a part of the GRES Model Railway Club\, you will need to have an active GRES membership as well as a subscription to the Model Railway Club.
URL:https://www.gres.org.uk/event/modelling-group-evening-27th-may-2025/
LOCATION:Kent
CATEGORIES:Modelling Group Evening
END:VEVENT
BEGIN:VEVENT
DTSTART;TZID=UTC:20260611T080000
DTEND;TZID=UTC:20260611T200000
DTSTAMP:20260423T153952
CREATED:20251119T091809Z
LAST-MODIFIED:20260106T095722Z
UID:5366-1781164800-1781208000@www.gres.org.uk
SUMMARY:Modelling Group Evening 11th June 2025
DESCRIPTION:GRES also has a dedicated sub-section for members who are passionate about model railways. Our focus is primarily on 00 Gauge\, and we work on both personal layouts and two club layouts that we maintain collectively. \nWe hold meetings twice a month at our venue in Longfield\, Kent\, providing an opportunity for members to collaborate\, share ideas\, and work on layouts together. The specific meeting dates can be found here. \nTo become a part of the GRES Model Railway Club\, you will need to have an active GRES membership as well as a subscription to the Model Railway Club.
URL:https://www.gres.org.uk/event/modelling-group-evening-11th-june-2025/
LOCATION:Kent
CATEGORIES:Modelling Group Evening
END:VEVENT
BEGIN:VEVENT
DTSTART;TZID=UTC:20260624T180000
DTEND;TZID=UTC:20260624T200000
DTSTAMP:20260423T153952
CREATED:20251119T091829Z
LAST-MODIFIED:20260106T095732Z
UID:5367-1782324000-1782331200@www.gres.org.uk
SUMMARY:Modelling Group Evening 24th June 2025
DESCRIPTION:GRES also has a dedicated sub-section for members who are passionate about model railways. Our focus is primarily on 00 Gauge\, and we work on both personal layouts and two club layouts that we maintain collectively. \nWe hold meetings twice a month at our venue in Longfield\, Kent\, providing an opportunity for members to collaborate\, share ideas\, and work on layouts together. The specific meeting dates can be found here. \nTo become a part of the GRES Model Railway Club\, you will need to have an active GRES membership as well as a subscription to the Model Railway Club.
URL:https://www.gres.org.uk/event/modelling-group-evening-24th-june-2025/
LOCATION:Kent
CATEGORIES:Modelling Group Evening
END:VEVENT
BEGIN:VEVENT
DTSTART;TZID=UTC:20260716T180000
DTEND;TZID=UTC:20260716T200000
DTSTAMP:20260423T153952
CREATED:20251119T091911Z
LAST-MODIFIED:20260106T095736Z
UID:5370-1784224800-1784232000@www.gres.org.uk
SUMMARY:Modelling Group Evening 16th July 2025
DESCRIPTION:GRES also has a dedicated sub-section for members who are passionate about model railways. Our focus is primarily on 00 Gauge\, and we work on both personal layouts and two club layouts that we maintain collectively. \nWe hold meetings twice a month at our venue in Longfield\, Kent\, providing an opportunity for members to collaborate\, share ideas\, and work on layouts together. The specific meeting dates can be found here. \nTo become a part of the GRES Model Railway Club\, you will need to have an active GRES membership as well as a subscription to the Model Railway Club.
URL:https://www.gres.org.uk/event/modelling-group-evening-16th-july-2025/
LOCATION:Kent
CATEGORIES:Modelling Group Evening
END:VEVENT
BEGIN:VEVENT
DTSTART;TZID=UTC:20260729T180000
DTEND;TZID=UTC:20260729T200000
DTSTAMP:20260423T153952
CREATED:20251119T091926Z
LAST-MODIFIED:20260106T095741Z
UID:5371-1785348000-1785355200@www.gres.org.uk
SUMMARY:Modelling Group Evening 29th July 2025
DESCRIPTION:GRES also has a dedicated sub-section for members who are passionate about model railways. Our focus is primarily on 00 Gauge\, and we work on both personal layouts and two club layouts that we maintain collectively. \nWe hold meetings twice a month at our venue in Longfield\, Kent\, providing an opportunity for members to collaborate\, share ideas\, and work on layouts together. The specific meeting dates can be found here. \nTo become a part of the GRES Model Railway Club\, you will need to have an active GRES membership as well as a subscription to the Model Railway Club.
URL:https://www.gres.org.uk/event/modelling-group-evening-29th-july-2025/
LOCATION:Kent
CATEGORIES:Modelling Group Evening
END:VEVENT
BEGIN:VEVENT
DTSTART;TZID=UTC:20260813T180000
DTEND;TZID=UTC:20260813T200000
DTSTAMP:20260423T153952
CREATED:20251119T091938Z
LAST-MODIFIED:20260106T095744Z
UID:5372-1786644000-1786651200@www.gres.org.uk
SUMMARY:Modelling Group Evening 13th August 2025
DESCRIPTION:GRES also has a dedicated sub-section for members who are passionate about model railways. Our focus is primarily on 00 Gauge\, and we work on both personal layouts and two club layouts that we maintain collectively. \nWe hold meetings twice a month at our venue in Longfield\, Kent\, providing an opportunity for members to collaborate\, share ideas\, and work on layouts together. The specific meeting dates can be found here. \nTo become a part of the GRES Model Railway Club\, you will need to have an active GRES membership as well as a subscription to the Model Railway Club.
URL:https://www.gres.org.uk/event/modelling-group-evening-13th-august-2025/
LOCATION:Kent
CATEGORIES:Modelling Group Evening
END:VEVENT
BEGIN:VEVENT
DTSTART;TZID=UTC:20260826T180000
DTEND;TZID=UTC:20260826T200000
DTSTAMP:20260423T153952
CREATED:20251119T091953Z
LAST-MODIFIED:20260106T095750Z
UID:5373-1787767200-1787774400@www.gres.org.uk
SUMMARY:Modelling Group Evening 26th August 2025
DESCRIPTION:GRES also has a dedicated sub-section for members who are passionate about model railways. Our focus is primarily on 00 Gauge\, and we work on both personal layouts and two club layouts that we maintain collectively. \nWe hold meetings twice a month at our venue in Longfield\, Kent\, providing an opportunity for members to collaborate\, share ideas\, and work on layouts together. The specific meeting dates can be found here. \nTo become a part of the GRES Model Railway Club\, you will need to have an active GRES membership as well as a subscription to the Model Railway Club.
URL:https://www.gres.org.uk/event/modelling-group-evening-26th-august-2025/
LOCATION:Kent
CATEGORIES:Modelling Group Evening
END:VEVENT
BEGIN:VEVENT
DTSTART;TZID=UTC:20260910T180000
DTEND;TZID=UTC:20260910T200000
DTSTAMP:20260423T153952
CREATED:20251119T092008Z
LAST-MODIFIED:20260106T095755Z
UID:5374-1789063200-1789070400@www.gres.org.uk
SUMMARY:Modelling Group Evening 10th September 2025
DESCRIPTION:GRES also has a dedicated sub-section for members who are passionate about model railways. Our focus is primarily on 00 Gauge\, and we work on both personal layouts and two club layouts that we maintain collectively. \nWe hold meetings twice a month at our venue in Longfield\, Kent\, providing an opportunity for members to collaborate\, share ideas\, and work on layouts together. The specific meeting dates can be found here. \nTo become a part of the GRES Model Railway Club\, you will need to have an active GRES membership as well as a subscription to the Model Railway Club.
URL:https://www.gres.org.uk/event/modelling-group-evening-10th-september-2025/
LOCATION:Kent
CATEGORIES:Modelling Group Evening
END:VEVENT
BEGIN:VEVENT
DTSTART;TZID=UTC:20260923T180000
DTEND;TZID=UTC:20260923T200000
DTSTAMP:20260423T153952
CREATED:20251119T092023Z
LAST-MODIFIED:20260106T095801Z
UID:5375-1790186400-1790193600@www.gres.org.uk
SUMMARY:Modelling Group Evening 23rd September 2025
DESCRIPTION:GRES also has a dedicated sub-section for members who are passionate about model railways. Our focus is primarily on 00 Gauge\, and we work on both personal layouts and two club layouts that we maintain collectively. \nWe hold meetings twice a month at our venue in Longfield\, Kent\, providing an opportunity for members to collaborate\, share ideas\, and work on layouts together. The specific meeting dates can be found here. \nTo become a part of the GRES Model Railway Club\, you will need to have an active GRES membership as well as a subscription to the Model Railway Club.
URL:https://www.gres.org.uk/event/modelling-group-evening-23rd-september-2025/
LOCATION:Kent
CATEGORIES:Modelling Group Evening
END:VEVENT
BEGIN:VEVENT
DTSTART;TZID=UTC:20261015T180000
DTEND;TZID=UTC:20261015T200000
DTSTAMP:20260423T153952
CREATED:20251119T092042Z
LAST-MODIFIED:20260106T095805Z
UID:5376-1792087200-1792094400@www.gres.org.uk
SUMMARY:Modelling Group Evening 15th October 2025
DESCRIPTION:GRES also has a dedicated sub-section for members who are passionate about model railways. Our focus is primarily on 00 Gauge\, and we work on both personal layouts and two club layouts that we maintain collectively. \nWe hold meetings twice a month at our venue in Longfield\, Kent\, providing an opportunity for members to collaborate\, share ideas\, and work on layouts together. The specific meeting dates can be found here. \nTo become a part of the GRES Model Railway Club\, you will need to have an active GRES membership as well as a subscription to the Model Railway Club.
URL:https://www.gres.org.uk/event/modelling-group-evening-15th-october-2025/
LOCATION:Kent
CATEGORIES:Modelling Group Evening
END:VEVENT
BEGIN:VEVENT
DTSTART;TZID=UTC:20261024T100000
DTEND;TZID=UTC:20261024T163000
DTSTAMP:20260423T153952
CREATED:20260317T083405Z
LAST-MODIFIED:20260402T061010Z
UID:5829-1792836000-1792859400@www.gres.org.uk
SUMMARY:GRES Exhibition 24th October 2026
DESCRIPTION:GRES Exhibition 2026 – Saturday 24th October 2026\nWe’re excited to welcome you to the GRES Exhibition 2026\, taking place on Saturday 24th October 2026. After a period of uncertainty\, we’re delighted to confirm that the event now has a venue secured and planning is well underway. \nThis year’s exhibition will be a one‑day show\, offering a compact but high‑quality selection of model railway layouts\, traders\, and demonstrations. \n\n\nLocation and opening times\nSaturday 24th October 2026: 10:00 to 16:30. \nPlease note the change of venue from previous exhibtions:  \n📍 St George’s Church Hall\, Church Street\, Gravesend\, Kent\, DA11 0DJ \nWhat3Words: ///sprint.league.palm \nA More Intimate Exhibition for 2026\nFor this year only\, the exhibition will be held in a smaller hall than our traditional venue\, giving us the opportunity to curate a focused and varied display of layouts. We’re particularly keen to feature: \n\n\n\nSmall and medium‑sized layouts\nPortable or modular layouts\nCreative or unusual modelling projects\n\n\n\n\nDemonstrations and hands‑on activities\n\nWhether you’re a regular visitor or new to GRES\, you can expect a friendly\, welcoming show with plenty to enjoy. \n\nOutdoor Courtyard Displays\nAlongside the main hall\, we also have access to a courtyard area\, ideal for: \n\nGarden railway exhibits\nOutdoor‑friendly layouts\nLive demonstrations\nInteractive displays\n\nThis additional space allows us to broaden the range of layouts on show and offer something a little different for visitors. \n\nExhibitors Wanted – Indoor & Outdoor\nWe are actively seeking smaller layouts to help us make the most of the available space. If you have a layout that would suit either the indoor hall or the outdoor courtyard\, we’d love to hear from you. \n📧 Contact our Exhibition Manager: exhibition.manager@gres.org.uk \n\nJoin Us in October\nMore details — including layout lists\, traders\, and visitor information — will be added as the event approaches. We look forward to welcoming you to a great one‑day show this October. \n\n  \n 
URL:https://www.gres.org.uk/event/gres-exhibition-2026/
LOCATION:St George’s Church Hall\, Church Street\, Gravesend\, Kent\, DA11 0DJ\, St George's Church Hall\, Church Street\, Gravesend\, Kent\, DA11 0DJ
CATEGORIES:Exhibition,Modelling Group Evening
END:VEVENT
BEGIN:VEVENT
DTSTART;TZID=UTC:20261028T180000
DTEND;TZID=UTC:20261028T200000
DTSTAMP:20260423T153952
CREATED:20251119T092056Z
LAST-MODIFIED:20260318T114337Z
UID:5378-1793210400-1793217600@www.gres.org.uk
SUMMARY:Modelling Group Evening 28th October 2025
DESCRIPTION:GRES also has a dedicated sub-section for members who are passionate about model railways. Our focus is primarily on 00 Gauge\, and we work on both personal layouts and two club layouts that we maintain collectively. \nWe hold meetings twice a month at our venue in Longfield\, Kent\, providing an opportunity for members to collaborate\, share ideas\, and work on layouts together. The specific meeting dates can be found here. \nTo become a part of the GRES Model Railway Club\, you will need to have an active GRES membership as well as a subscription to the Model Railway Club.
URL:https://www.gres.org.uk/event/modelling-group-evening-28th-october-2025/
LOCATION:Kent
CATEGORIES:Modelling Group Evening
END:VEVENT
BEGIN:VEVENT
DTSTART;TZID=UTC:20261112T180000
DTEND;TZID=UTC:20261112T200000
DTSTAMP:20260423T153952
CREATED:20251119T092109Z
LAST-MODIFIED:20260318T114343Z
UID:5379-1794506400-1794513600@www.gres.org.uk
SUMMARY:Modelling Group Evening 12th November 2025
DESCRIPTION:GRES also has a dedicated sub-section for members who are passionate about model railways. Our focus is primarily on 00 Gauge\, and we work on both personal layouts and two club layouts that we maintain collectively. \nWe hold meetings twice a month at our venue in Longfield\, Kent\, providing an opportunity for members to collaborate\, share ideas\, and work on layouts together. The specific meeting dates can be found here. \nTo become a part of the GRES Model Railway Club\, you will need to have an active GRES membership as well as a subscription to the Model Railway Club.
URL:https://www.gres.org.uk/event/modelling-group-evening-12th-november-2025/
LOCATION:Kent
CATEGORIES:Modelling Group Evening
END:VEVENT
BEGIN:VEVENT
DTSTART;TZID=UTC:20261125T180000
DTEND;TZID=UTC:20261125T200000
DTSTAMP:20260423T153952
CREATED:20251119T092126Z
LAST-MODIFIED:20260318T114352Z
UID:5380-1795629600-1795636800@www.gres.org.uk
SUMMARY:Modelling Group Evening 25th November 2025
DESCRIPTION:GRES also has a dedicated sub-section for members who are passionate about model railways. Our focus is primarily on 00 Gauge\, and we work on both personal layouts and two club layouts that we maintain collectively. \nWe hold meetings twice a month at our venue in Longfield\, Kent\, providing an opportunity for members to collaborate\, share ideas\, and work on layouts together. The specific meeting dates can be found here. \nTo become a part of the GRES Model Railway Club\, you will need to have an active GRES membership as well as a subscription to the Model Railway Club.
URL:https://www.gres.org.uk/event/modelling-group-evening-25th-november-2025/
LOCATION:Kent
CATEGORIES:Modelling Group Evening
END:VEVENT
END:VCALENDAR