BEGIN:VCALENDAR
VERSION:2.0
PRODID:-//Welcome to GRES - ECPv6.15.20//NONSGML v1.0//EN
CALSCALE:GREGORIAN
METHOD:PUBLISH
X-WR-CALNAME:Welcome to GRES
X-ORIGINAL-URL:https://www.gres.org.uk
X-WR-CALDESC:Events for Welcome to GRES
REFRESH-INTERVAL;VALUE=DURATION:PT1H
X-Robots-Tag:noindex
X-PUBLISHED-TTL:PT1H
BEGIN:VTIMEZONE
TZID:UTC
BEGIN:STANDARD
TZOFFSETFROM:+0000
TZOFFSETTO:+0000
TZNAME:UTC
DTSTART:20250101T000000
END:STANDARD
END:VTIMEZONE
BEGIN:VEVENT
DTSTART;TZID=UTC:20260423T193000
DTEND;TZID=UTC:20260423T213000
DTSTAMP:20260423T170649
CREATED:20251020T145322Z
LAST-MODIFIED:20260422T075527Z
UID:5308-1776972600-1776979800@www.gres.org.uk
SUMMARY:Club Talk - Thursday 23 April 2026 - 200 years of train travel – 100 notable events (part 2) - Tony Riley
DESCRIPTION:Club Talk – Thursday 23 April 2026 \nTony Riley\, will return to deliver part two of his talk 200 years of train travel – 100 notable events. Join us at our usual venue of the Emmanuel Church Hall\, 55 Windmill Street\, Gravesend (from 7.45pm). \n  \nRegular meetings are usually held on the first Tuesday and the second to last Thursday of each month. Meetings start at 7.45pm at: Emmanuel Baptist Church Hall\, Windmill Street\, Gravesend\, DA12 1BB
URL:https://www.gres.org.uk/event/club-talk-thursday-23-april-2026-its-time-for-a-pep-talk-part-2-george-marcar/
LOCATION:Emmanuel Baptist Church\, Emmanuel Baptist Church Hall\, Windmill Street\, Gravesend\, DA12 1BB
CATEGORIES:Club Talk
END:VEVENT
END:VCALENDAR